BEGIN:VCALENDAR
VERSION:2.0
PRODID:gruene-treptow-koepenick.de
METHOD:PUBLISH
BEGIN:VTIMEZONE
TZID:Europe/Berlin
X-LIC-LOCATION:Europe/Berlin
BEGIN:DAYLIGHT
TZOFFSETFROM:+0100
TZOFFSETTO:+0200
TZNAME:CEST
DTSTART:19700329T020000
RRULE:FREQ=YEARLY;INTERVAL=1;BYDAY=-1SU;BYMONTH=3
END:DAYLIGHT
BEGIN:STANDARD
TZOFFSETFROM:+0200
TZOFFSETTO:+0100
TZNAME:CET
DTSTART:19701025T030000
RRULE:FREQ=YEARLY;INTERVAL=1;BYDAY=-1SU;BYMONTH=10
END:STANDARD
END:VTIMEZONE
BEGIN:VEVENT
UID:94013276b4237fbf9a8fed7017d599cd@gruene-treptow-koepenick.de
URL;VALUE=URI:https://gruene-treptow-koepenick.de/termine/kein-schulwechs
 el-kein-stress-mehr-gemeinschaftsschulen-fuer-berlin/
LOCATION:Alte Möbelfabrik e.V., Karlstraße 12, 12557 Berlin
SUMMARY:Kein Schulwechsel, kein Stress – Mehr Gemeinschaftsschulen für
  Berlin!
DESCRIPTION;ALTREP="data:text/html,%3Cp%3EDie%20Gr%C3%BCne%20Abgeordneten
 hausfraktion%20startet%20ihre%20Veranstaltungsreihe%20zur%20St%C3%A4rkung
 %20der%20Berliner%20Gemeinschaftsschulen%20und%20kommt%20in%20alle%2012%2
 0Bezirke%2C%20um%20mit%20den%20Menschen%20vor%20Ort%20ins%20Gespr%C3%A4ch
 %20zu%20kommen.%20Mehr%20Informationen%20unter%3A%20https%3A%2F%2Fgruene-
 fraktion.berlin%2Ftermin%2Fkein-schulwechsel-kein-stress-mehr-gemeinschaf
 tsschulen-fuer-berlin-fraktion-vor-ort-in-treptow-koepenick%2F%3C%2Fp%3E"
 :Die Grüne Abgeordnetenhausfraktion startet ihre Veranstaltungsreihe zur
  Stärkung der Berliner Gemeinschaftsschulen und kommt in alle 12 Bezirke
 \, um mit den Menschen vor Ort ins Gespräch zu kommen. Mehr Informatione
 n unter: https://gruene-fraktion.berlin/termin/kein-schulwechsel-kein-str
 ess-mehr-gemeinschaftsschulen-fuer-berlin-fraktion-vor-ort-in-treptow-koe
 penick/
CLASS:PUBLIC
DTSTART;TZID=Europe/Berlin:20260422T190000
DTEND;TZID=Europe/Berlin:20260422T203000
DTSTAMP:20260420T033930
END:VEVENT
END:VCALENDAR