BEGIN:VCALENDAR
VERSION:2.0
PRODID:gruene-treptow-koepenick.de
METHOD:PUBLISH
BEGIN:VTIMEZONE
TZID:Europe/Berlin
X-LIC-LOCATION:Europe/Berlin
BEGIN:DAYLIGHT
TZOFFSETFROM:+0100
TZOFFSETTO:+0200
TZNAME:CEST
DTSTART:19700329T020000
RRULE:FREQ=YEARLY;INTERVAL=1;BYDAY=-1SU;BYMONTH=3
END:DAYLIGHT
BEGIN:STANDARD
TZOFFSETFROM:+0200
TZOFFSETTO:+0100
TZNAME:CET
DTSTART:19701025T030000
RRULE:FREQ=YEARLY;INTERVAL=1;BYDAY=-1SU;BYMONTH=10
END:STANDARD
END:VTIMEZONE
BEGIN:VEVENT
UID:a51ced129d2f5eaf1adc1c700de4d4d2@gruene-treptow-koepenick.de
URL;VALUE=URI:https://gruene-treptow-koepenick.de/termine/sozialsprechstu
 nde-zeit-fuer-dein-anliegen-kostenlos-und-vertraulich/
LOCATION:Geschäftsstelle Schnellerstraße 22, 12439 Berlin (Nähe S-Bahn
 hof Schöneweide)
SUMMARY:Sozialsprechstunde: Zeit für dein Anliegen. Kostenlos und vertra
 ulich.
DESCRIPTION;ALTREP="data:text/html,%3Cp%3EDu%20hast%20Fragen%20oder%20bra
 uchst%20Unterst%C3%BCtzung%20bei%20sozialen%20Themen%3F%20Dann%20komm%20z
 u%20unserer%20Sozialsprechstunde.%20Wir%20nehmen%20uns%20Zeit%20f%C3%BCr%
 20dein%20Anliegen.%20Kostenlos%20und%20vertraulich.%20%3Cbr%20%2F%3E%0A%3
 Cbr%20%2F%3E%0AEgal%20ob%20konkret%20oder%20erstmal%20zur%20Orientierung%
 20%E2%80%93%20bei%20diesen%20Themen%20beraten%20wir%20dich%20gerne%3A%3Cb
 r%20%2F%3E%0A-%20Grundsicherung%20im%20Alter%20%26amp%3B%20Erwerbsminderu
 ng%2C%3Cbr%20%2F%3E%0A-%20Fragen%20zur%20sozialen%20Wohnhilfe%20%26amp%3B
 %20Wohngeldstelle%2C%3Cbr%20%2F%3E%0A-%20Unterst%C3%BCtzung%20bei%20Antr%
 C3%A4gen%20f%C3%BCr%20Pflegebed%C3%BCrftige%2C%3Cbr%20%2F%3E%0A-%20Beratu
 ng%20f%C3%BCr%20Angeh%C3%B6rige%20in%20der%20Pflege%2C%3Cbr%20%2F%3E%0A-%
 20Allgemeine%20Fragen%20zu%20sozialen%20Leistungen%2C%3Cbr%20%2F%3E%0A...
 %20oder%20auch%2C%20wenn%20du%20einfach%20ein%20offenes%20Ohr%20brauchst.
 %3Cbr%20%2F%3E%0A%3Cbr%20%2F%3E%0AAnmeldung%3A%20post%40gruene-treptow-ko
 epenick.de%20oder%20komm%20spontan%20vorbei%21%3C%2Fp%3E":Du hast Fragen 
 oder brauchst Unterstützung bei sozialen Themen? Dann komm zu unserer So
 zialsprechstunde. Wir nehmen uns Zeit für dein Anliegen. Kostenlos und v
 ertraulich.\n\nEgal ob konkret oder erstmal zur Orientierung – bei dies
 en Themen beraten wir dich gerne:\n\n- Grundsicherung im Alter & Erwerbsm
 inderung\,\n\n- Fragen zur sozialen Wohnhilfe & Wohngeldstelle\,\n\n- Unt
 erstützung bei Anträgen für Pflegebedürftige\,\n\n- Beratung für Ang
 ehörige in der Pflege\,\n\n- Allgemeine Fragen zu sozialen Leistungen\,\
 n\n... oder auch\, wenn du einfach ein offenes Ohr brauchst.\n\nAnmeldung
 : post@gruene-treptow-koepenick.de oder komm spontan vorbei!
CLASS:PUBLIC
DTSTART;TZID=Europe/Berlin:20260424T160000
DTEND;TZID=Europe/Berlin:20260424T180000
DTSTAMP:20260422T141629
END:VEVENT
END:VCALENDAR